BEGIN:VCALENDAR
VERSION:2.0
PRODID:-//Theater- und Konzertfreunde Dortmund - ECPv6.15.14//NONSGML v1.0//EN
CALSCALE:GREGORIAN
METHOD:PUBLISH
X-ORIGINAL-URL:https://www.theaterundkonzertfreunde.de
X-WR-CALDESC:Veranstaltungen für Theater- und Konzertfreunde Dortmund
REFRESH-INTERVAL;VALUE=DURATION:PT1H
X-Robots-Tag:noindex
X-PUBLISHED-TTL:PT1H
BEGIN:VTIMEZONE
TZID:Europe/Berlin
BEGIN:DAYLIGHT
TZOFFSETFROM:+0100
TZOFFSETTO:+0200
TZNAME:CEST
DTSTART:20230326T010000
END:DAYLIGHT
BEGIN:STANDARD
TZOFFSETFROM:+0200
TZOFFSETTO:+0100
TZNAME:CET
DTSTART:20231029T010000
END:STANDARD
BEGIN:DAYLIGHT
TZOFFSETFROM:+0100
TZOFFSETTO:+0200
TZNAME:CEST
DTSTART:20240331T010000
END:DAYLIGHT
BEGIN:STANDARD
TZOFFSETFROM:+0200
TZOFFSETTO:+0100
TZNAME:CET
DTSTART:20241027T010000
END:STANDARD
BEGIN:DAYLIGHT
TZOFFSETFROM:+0100
TZOFFSETTO:+0200
TZNAME:CEST
DTSTART:20250330T010000
END:DAYLIGHT
BEGIN:STANDARD
TZOFFSETFROM:+0200
TZOFFSETTO:+0100
TZNAME:CET
DTSTART:20251026T010000
END:STANDARD
END:VTIMEZONE
BEGIN:VEVENT
DTSTART;TZID=Europe/Berlin:20241024T110000
DTEND;TZID=Europe/Berlin:20241027T180000
DTSTAMP:20260425T200007
CREATED:20240426T150439Z
LAST-MODIFIED:20250226T115543Z
UID:10000091-1729767600-1730052000@www.theaterundkonzertfreunde.de
SUMMARY:Kulturreise 2024\, Antwerpen
DESCRIPTION:Datum: Do.\, 24. Oktober 2024 bis So.\, 27. Oktober 2024 \nAntwerpen\, die Stadt der Kontraste\, erwartet Sie mit einem faszinierenden Mix aus Geschichte und Moderne. Die flämische Hauptstadt beeindruckt mit ihrer atemberaubenden gotischen Kathedrale\, einem reichen künstlerischen Erbe und einem glitzernden Diamantenviertel. \nErkunden Sie die mittelalterliche Altstadt\, wo Sie die Meisterwerke von Rubens bewundern können\, belgisches Bier probieren und sich mit köstlicher Schokolade und exquisitem Schmuck verwöhnen lassen können. Doch Antwerpen bietet mehr als nur historische Sehenswürdigkeiten – als kultureller Knotenpunkt lockt die Stadt das ganze Jahr über mit Festivals\, Konzerten und anderen kulturellen Veranstaltungen. \nAls Highlight unserer Reise haben wir für Sie Karten in der Oper Antwerpen für „Iphigénie en Tauride“ reserviert. Zudem erwartet Sie ein musikalisches Highlight mit Richard Strauss‘ „Also sprach Zarathustra“ durch das Sinfonie Orchester Antwerpen unter der Leitung von Dirigent Marc Albrecht. Die Aufführung findet im beeindruckenden Königin Elisabeth Saal statt\, bekannt für seine herausragende Akustik. \nMelden Sie sich direkt bei unserer Geschäftsstelle an und sichern Sie sich Ihren Platz auf dieser unvergesslichen Kulturerlebnisreise nach Antwerpen!
URL:https://www.theaterundkonzertfreunde.de/event/kulturreise-2024-antwerpen/
LOCATION:Antwerpen\, Frankrijklei 3\, Antwerpen\, 2000\, Belgien
CATEGORIES:Konzerte,Kulturreise
ATTACH;FMTTYPE=image/jpeg:https://www.theaterundkonzertfreunde.de/wp-content/uploads/2024/04/Antwerpen_Opera.jpg
ORGANIZER;CN="Theater-und Konzertfreunde Dortmund":MAILTO:m.otte@theaterundkonzertfreunde.de
END:VEVENT
BEGIN:VEVENT
DTSTART;TZID=Europe/Berlin:20241014T190000
DTEND;TZID=Europe/Berlin:20241014T210000
DTSTAMP:20260425T200007
CREATED:20230911T083743Z
LAST-MODIFIED:20241023T142229Z
UID:10000079-1728932400-1728939600@www.theaterundkonzertfreunde.de
SUMMARY:"Zu Gast bei…" Tobias Ehinger\, Geschäftsführender Direktor Theater Dortmund
DESCRIPTION:Wir laden Sie herzlich ein zu einem spannenden Abend mit unserem Vorsitzenden Ulrich Wantia und Tobias Ehinger\, dem Geschäftsführenden Direktor des Theater Dortmund. Freuen Sie sich auf ein unterhaltsames und informatives Gespräch\, bei dem Sie aus erster Hand exklusive Einblicke in die aktuellen Planungen des Theaters erhalten. \nIm Anschluss an das Gespräch besteht die Möglichkeit\, sich in geselliger Runde auszutauschen. Herr Ehinger wird zudem gerne Ihre Fragen beantworten. Wir freuen uns auf einen inspirierenden Abend! \n 
URL:https://www.theaterundkonzertfreunde.de/event/zu-gast-bei-tobias-ehinger-geschaeftsfuehrender-direktor-theater-dortmund/
LOCATION:Foyer der Oper\, Theaterkarree 1-3\, Dortmund\, 44137\, Deutschland
CATEGORIES:Zu Gast bei…
ATTACH;FMTTYPE=image/jpeg:https://www.theaterundkonzertfreunde.de/wp-content/uploads/2023/11/TuK-0015-scaled.jpg
ORGANIZER;CN="Theater-und Konzertfreunde Dortmund":MAILTO:m.otte@theaterundkonzertfreunde.de
END:VEVENT
END:VCALENDAR